BEGIN:VCALENDAR
VERSION:2.0
METHOD:PUBLISH
PRODID:-//Accessible Web Design//My Calendar//http://www.joedolson.com//v//EN';
BEGIN:VEVENT
UID:4-4
LOCATION:
SUMMARY:Untitled Event
DTSTAMP:20230922T145300
ORGANIZER;CN=lucas.dutra:MAILTO:lucas.dutra@agenciarmbh.mg.gov.br
DTSTART:20230922T145300
DTEND:20230922T155300
CATEGORIES:General
URL;VALUE=URI:https://www.agenciarmbh.mg.gov.br/mc-events/untitled-event/?mc_id=4
DESCRIPTION:
END:VEVENT
END:VCALENDAR