BEGIN:VCALENDAR
VERSION:2.0
METHOD:PUBLISH
PRODID:-//Accessible Web Design//My Calendar//http://www.joedolson.com//v//EN';
BEGIN:VEVENT
UID:3-3
LOCATION:Cidade Administrativa de Minas Gerais
SUMMARY:teste 2
DTSTAMP:20230922T145300
ORGANIZER;CN=lucas.dutra:MAILTO:lucas.dutra@agenciarmbh.mg.gov.br
DTSTART:20230922T145300
DTEND:20230922T155300
CATEGORIES:General
URL;VALUE=URI:https://www.agenciarmbh.mg.gov.br/mc-events/teste-2/?mc_id=3
DESCRIPTION:Segundo teste
END:VEVENT
END:VCALENDAR