BEGIN:VCALENDAR
VERSION:2.0
METHOD:PUBLISH
PRODID:-//Accessible Web Design//My Calendar//http://www.joedolson.com//v//EN';
BEGIN:VEVENT
UID:2-2
LOCATION:Cidade Administrativa de Minas Gerais
SUMMARY:Teste
DTSTAMP:20230922T115100
ORGANIZER;CN=lucas.dutra:MAILTO:lucas.dutra@agenciarmbh.mg.gov.br
DTSTART:20230922T115100
DTEND:20230922T125100
CATEGORIES:General
URL;VALUE=URI:https://www.agenciarmbh.mg.gov.br/mc-events/teste/?mc_id=2
DESCRIPTION:Teste dia 22/09
END:VEVENT
END:VCALENDAR